BEGIN:VCALENDAR
VERSION:2.0
PRODID:-//Colegio Hispano Británico - ECPv6.15.20//NONSGML v1.0//EN
CALSCALE:GREGORIAN
METHOD:PUBLISH
X-WR-CALNAME:Colegio Hispano Británico
X-ORIGINAL-URL:https://www.chb.cl/sitio
X-WR-CALDESC:Eventos para Colegio Hispano Británico
REFRESH-INTERVAL;VALUE=DURATION:PT1H
X-Robots-Tag:noindex
X-PUBLISHED-TTL:PT1H
BEGIN:VTIMEZONE
TZID:America/Sao_Paulo
BEGIN:STANDARD
TZOFFSETFROM:-0300
TZOFFSETTO:-0300
TZNAME:-03
DTSTART:20240101T000000
END:STANDARD
END:VTIMEZONE
BEGIN:VEVENT
DTSTART;VALUE=DATE:20250511
DTEND;VALUE=DATE:20250512
DTSTAMP:20260420T025047
CREATED:20250313T132249Z
LAST-MODIFIED:20250313T132249Z
UID:10001606-1746921600-1747007999@www.chb.cl
SUMMARY:Día de las y los Estudiantes
DESCRIPTION:
URL:https://www.chb.cl/sitio/event/dia-de-las-y-los-estudiantes/
END:VEVENT
BEGIN:VEVENT
DTSTART;VALUE=DATE:20250510
DTEND;VALUE=DATE:20250511
DTSTAMP:20260420T025047
CREATED:20241230T192756Z
LAST-MODIFIED:20241230T192756Z
UID:10001544-1746835200-1746921599@www.chb.cl
SUMMARY:MA. Día Internacional de las Aves Migratorias
DESCRIPTION:
URL:https://www.chb.cl/sitio/event/ma-dia-internacional-de-las-aves-migratorias-2/
LOCATION:Colegio Hispano Británico\, Av. Salvador Allende Gossens 3925\, Iquique\, Tarapacá\, Iquique\, Chile
END:VEVENT
BEGIN:VEVENT
DTSTART;VALUE=DATE:20250509
DTEND;VALUE=DATE:20250510
DTSTAMP:20260420T025047
CREATED:20250318T194403Z
LAST-MODIFIED:20250318T194403Z
UID:10001636-1746748800-1746835199@www.chb.cl
SUMMARY:Ensayo PAES III y IV Medios (Lenguaje Matemática)
DESCRIPTION:
URL:https://www.chb.cl/sitio/event/ensayo-paes-iii-y-iv-medios-lenguaje-matematica-2/
LOCATION:Colegio Hispano Británico\, Av. Salvador Allende Gossens 3925\, Iquique\, Tarapacá\, Iquique\, Chile
END:VEVENT
BEGIN:VEVENT
DTSTART;VALUE=DATE:20250505
DTEND;VALUE=DATE:20250506
DTSTAMP:20260420T025047
CREATED:20250430T164156Z
LAST-MODIFIED:20250430T164156Z
UID:10001655-1746403200-1746489599@www.chb.cl
SUMMARY:Jornada Socioemocional
DESCRIPTION:
URL:https://www.chb.cl/sitio/event/jornada-socioemocional/
LOCATION:Colegio Hispano Británico\, Av. Salvador Allende Gossens 3925\, Iquique\, Tarapacá\, Iquique\, Chile
END:VEVENT
BEGIN:VEVENT
DTSTART;VALUE=DATE:20250502
DTEND;VALUE=DATE:20250503
DTSTAMP:20260420T025047
CREATED:20250425T162728Z
LAST-MODIFIED:20250425T162728Z
UID:10001654-1746144000-1746230399@www.chb.cl
SUMMARY:Día sin clases con recuperación
DESCRIPTION:
URL:https://www.chb.cl/sitio/event/dia-sin-clases-con-recuperacion/
LOCATION:Colegio Hispano Británico\, Av. Salvador Allende Gossens 3925\, Iquique\, Tarapacá\, Iquique\, Chile
END:VEVENT
BEGIN:VEVENT
DTSTART;VALUE=DATE:20250502
DTEND;VALUE=DATE:20250503
DTSTAMP:20260420T025047
CREATED:20250204T131051Z
LAST-MODIFIED:20250204T131051Z
UID:10001589-1746144000-1746230399@www.chb.cl
SUMMARY:Suspensión de clases (recuperado 03 de marzo)
DESCRIPTION:
URL:https://www.chb.cl/sitio/event/suspension-de-clases-recuperado-03-de-marzo/
LOCATION:Colegio Hispano Británico\, Av. Salvador Allende Gossens 3925\, Iquique\, Tarapacá\, Iquique\, Chile
END:VEVENT
BEGIN:VEVENT
DTSTART;VALUE=DATE:20250501
DTEND;VALUE=DATE:20250502
DTSTAMP:20260420T025047
CREATED:20250425T162715Z
LAST-MODIFIED:20250425T162715Z
UID:10001653-1746057600-1746143999@www.chb.cl
SUMMARY:Dia del Trabajador
DESCRIPTION:
URL:https://www.chb.cl/sitio/event/dia-del-trabajador/
LOCATION:Colegio Hispano Británico\, Av. Salvador Allende Gossens 3925\, Iquique\, Tarapacá\, Iquique\, Chile
END:VEVENT
BEGIN:VEVENT
DTSTART;VALUE=DATE:20250501
DTEND;VALUE=DATE:20250502
DTSTAMP:20260420T025047
CREATED:20250313T132212Z
LAST-MODIFIED:20250313T132212Z
UID:10001605-1746057600-1746143999@www.chb.cl
SUMMARY:Día Internacional de las y los Trabajadores
DESCRIPTION:
URL:https://www.chb.cl/sitio/event/dia-internacional-de-las-y-los-trabajadores/
LOCATION:Colegio Hispano Británico\, Av. Salvador Allende Gossens 3925\, Iquique\, Tarapacá\, Iquique\, Chile
END:VEVENT
BEGIN:VEVENT
DTSTART;VALUE=DATE:20250430
DTEND;VALUE=DATE:20250501
DTSTAMP:20260420T025047
CREATED:20250425T162627Z
LAST-MODIFIED:20250425T162627Z
UID:10001651-1745971200-1746057599@www.chb.cl
SUMMARY:Colecta Sopranil
DESCRIPTION:
URL:https://www.chb.cl/sitio/event/colecta-sopranil/
LOCATION:Colegio Hispano Británico\, Av. Salvador Allende Gossens 3925\, Iquique\, Tarapacá\, Iquique\, Chile
END:VEVENT
BEGIN:VEVENT
DTSTART;VALUE=DATE:20250430
DTEND;VALUE=DATE:20250501
DTSTAMP:20260420T025047
CREATED:20241230T192517Z
LAST-MODIFIED:20241230T192517Z
UID:10001543-1745971200-1746057599@www.chb.cl
SUMMARY:MA. Internacional de la Conciencia sobre Ruido
DESCRIPTION:
URL:https://www.chb.cl/sitio/event/ma-internacional-de-la-conciencia-sobre-ruido/
LOCATION:Colegio Hispano Británico\, Av. Salvador Allende Gossens 3925\, Iquique\, Tarapacá\, Iquique\, Chile
END:VEVENT
BEGIN:VEVENT
DTSTART;VALUE=DATE:20250430
DTEND;VALUE=DATE:20250501
DTSTAMP:20260420T025047
CREATED:20250425T162658Z
LAST-MODIFIED:20250425T162823Z
UID:10001652-1745971200-1746057599@www.chb.cl
SUMMARY:Jornada de autocuidado y reflexión para el Personal CHB
DESCRIPTION:
URL:https://www.chb.cl/sitio/event/jornada-de-autocuidado-y-reflexion-para-el-personal-chb/
LOCATION:Colegio Hispano Británico\, Av. Salvador Allende Gossens 3925\, Iquique\, Tarapacá\, Iquique\, Chile
END:VEVENT
BEGIN:VEVENT
DTSTART;VALUE=DATE:20250428
DTEND;VALUE=DATE:20250429
DTSTAMP:20260420T025047
CREATED:20250425T162601Z
LAST-MODIFIED:20250425T162601Z
UID:10001650-1745798400-1745884799@www.chb.cl
SUMMARY:Conversatorio Ex Alumnos CHB - Pontificia Universidad Católica de Chile
DESCRIPTION:
URL:https://www.chb.cl/sitio/event/conversatorio-ex-alumnos-chb-pontificia-universidad-catolica-de-chile/
LOCATION:Colegio Hispano Británico\, Av. Salvador Allende Gossens 3925\, Iquique\, Tarapacá\, Iquique\, Chile
END:VEVENT
BEGIN:VEVENT
DTSTART;VALUE=DATE:20250428
DTEND;VALUE=DATE:20250429
DTSTAMP:20260420T025047
CREATED:20250423T203529Z
LAST-MODIFIED:20250423T203529Z
UID:10001649-1745798400-1745884799@www.chb.cl
SUMMARY:Charla Universidad Católica dirigida por egresados CHB
DESCRIPTION:
URL:https://www.chb.cl/sitio/event/charla-universidad-catolica-dirigida-por-egresados-chb/
LOCATION:Colegio Hispano Británico\, Av. Salvador Allende Gossens 3925\, Iquique\, Tarapacá\, Iquique\, Chile
END:VEVENT
BEGIN:VEVENT
DTSTART;VALUE=DATE:20250427
DTEND;VALUE=DATE:20250428
DTSTAMP:20260420T025047
CREATED:20250313T132019Z
LAST-MODIFIED:20250313T132031Z
UID:10001604-1745712000-1745798399@www.chb.cl
SUMMARY:Día de la Convivencia escolar
DESCRIPTION:
URL:https://www.chb.cl/sitio/event/dia-de-la-convivencia-escolar-2/
LOCATION:Colegio Hispano Británico\, Av. Salvador Allende Gossens 3925\, Iquique\, Tarapacá\, Iquique\, Chile
END:VEVENT
BEGIN:VEVENT
DTSTART;VALUE=DATE:20250426
DTEND;VALUE=DATE:20250427
DTSTAMP:20260420T025047
CREATED:20250313T131952Z
LAST-MODIFIED:20250313T131952Z
UID:10001603-1745625600-1745711999@www.chb.cl
SUMMARY:Día del Carabinero
DESCRIPTION:
URL:https://www.chb.cl/sitio/event/dia-del-carabinero-2/
LOCATION:Colegio Hispano Británico\, Av. Salvador Allende Gossens 3925\, Iquique\, Tarapacá\, Iquique\, Chile
END:VEVENT
BEGIN:VEVENT
DTSTART;VALUE=DATE:20250425
DTEND;VALUE=DATE:20250426
DTSTAMP:20260420T025047
CREATED:20250313T131926Z
LAST-MODIFIED:20250313T131926Z
UID:10001602-1745539200-1745625599@www.chb.cl
SUMMARY:Día internacional de la lucha contra el maltrato infantil
DESCRIPTION:
URL:https://www.chb.cl/sitio/event/dia-internacional-de-la-lucha-contra-el-maltrato-infantil/
LOCATION:Colegio Hispano Británico\, Av. Salvador Allende Gossens 3925\, Iquique\, Tarapacá\, Iquique\, Chile
END:VEVENT
BEGIN:VEVENT
DTSTART;VALUE=DATE:20250425
DTEND;VALUE=DATE:20250426
DTSTAMP:20260420T025047
CREATED:20241230T192435Z
LAST-MODIFIED:20241230T192435Z
UID:10001542-1745539200-1745625599@www.chb.cl
SUMMARY:MA. Día Mundial de los Pinguinos
DESCRIPTION:
URL:https://www.chb.cl/sitio/event/ma-dia-mundial-de-los-pinguinos/
LOCATION:Colegio Hispano Británico\, Av. Salvador Allende Gossens 3925\, Iquique\, Tarapacá\, Iquique\, Chile
END:VEVENT
BEGIN:VEVENT
DTSTART;VALUE=DATE:20250423
DTEND;VALUE=DATE:20250424
DTSTAMP:20260420T025047
CREATED:20250313T131847Z
LAST-MODIFIED:20250313T131847Z
UID:10001601-1745366400-1745452799@www.chb.cl
SUMMARY:Día Mundial del Libro y del Derecho de Autor
DESCRIPTION:
URL:https://www.chb.cl/sitio/event/dia-mundial-del-libro-y-del-derecho-de-autor/
LOCATION:Colegio Hispano Británico\, Av. Salvador Allende Gossens 3925\, Iquique\, Tarapacá\, Iquique\, Chile
END:VEVENT
BEGIN:VEVENT
DTSTART;VALUE=DATE:20250422
DTEND;VALUE=DATE:20250423
DTSTAMP:20260420T025047
CREATED:20250313T131712Z
LAST-MODIFIED:20250313T131712Z
UID:10001600-1745280000-1745366399@www.chb.cl
SUMMARY:Día de la Tierra
DESCRIPTION:
URL:https://www.chb.cl/sitio/event/dia-de-la-tierra/
LOCATION:Colegio Hispano Británico\, Av. Salvador Allende Gossens 3925\, Iquique\, Tarapacá\, Iquique\, Chile
END:VEVENT
BEGIN:VEVENT
DTSTART;VALUE=DATE:20250422
DTEND;VALUE=DATE:20250423
DTSTAMP:20260420T025047
CREATED:20241230T190027Z
LAST-MODIFIED:20241230T190027Z
UID:10001541-1745280000-1745366399@www.chb.cl
SUMMARY:MA. Día de la Tierra
DESCRIPTION:
URL:https://www.chb.cl/sitio/event/ma-dia-de-la-tierra-2/
LOCATION:Colegio Hispano Británico\, Av. Salvador Allende Gossens 3925\, Iquique\, Tarapacá\, Iquique\, Chile
END:VEVENT
END:VCALENDAR