BEGIN:VCALENDAR
VERSION:2.0
PRODID:-//Colegio Hispano Británico - ECPv6.15.20//NONSGML v1.0//EN
CALSCALE:GREGORIAN
METHOD:PUBLISH
X-WR-CALNAME:Colegio Hispano Británico
X-ORIGINAL-URL:https://www.chb.cl/sitio
X-WR-CALDESC:Eventos para Colegio Hispano Británico
REFRESH-INTERVAL;VALUE=DURATION:PT1H
X-Robots-Tag:noindex
X-PUBLISHED-TTL:PT1H
BEGIN:VTIMEZONE
TZID:America/Sao_Paulo
BEGIN:STANDARD
TZOFFSETFROM:-0300
TZOFFSETTO:-0300
TZNAME:-03
DTSTART:20240101T000000
END:STANDARD
END:VTIMEZONE
BEGIN:VEVENT
DTSTART;VALUE=DATE:20260120
DTEND;VALUE=DATE:20260121
DTSTAMP:20260419T143025
CREATED:20251223T025005Z
LAST-MODIFIED:20251223T025005Z
UID:10001789-1768867200-1768953599@www.chb.cl
SUMMARY:Proceso de Matrícula: Inicio de primera etapa
DESCRIPTION:
URL:https://www.chb.cl/sitio/event/proceso-de-matricula-inicio-de-primera-etapa-2/
LOCATION:Colegio Hispano Británico\, Av. Salvador Allende Gossens 3925\, Iquique\, Tarapacá\, Iquique\, Chile
END:VEVENT
BEGIN:VEVENT
DTSTART;VALUE=DATE:20260120
DTEND;VALUE=DATE:20260121
DTSTAMP:20260419T143025
CREATED:20250526T135822Z
LAST-MODIFIED:20250526T135822Z
UID:10001687-1768867200-1768953599@www.chb.cl
SUMMARY:Proceso de Matrícula: Inicio de primera etapa
DESCRIPTION:
URL:https://www.chb.cl/sitio/event/proceso-de-matricula-inicio-de-primera-etapa/
LOCATION:Colegio Hispano Británico\, Av. Salvador Allende Gossens 3925\, Iquique\, Tarapacá\, Iquique\, Chile
END:VEVENT
BEGIN:VEVENT
DTSTART;VALUE=DATE:20260119
DTEND;VALUE=DATE:20260120
DTSTAMP:20260419T143025
CREATED:20251223T024954Z
LAST-MODIFIED:20251223T024954Z
UID:10001788-1768780800-1768867199@www.chb.cl
SUMMARY:Resultado Proceso de Selección
DESCRIPTION:
URL:https://www.chb.cl/sitio/event/resultado-proceso-de-seleccion/
LOCATION:Colegio Hispano Británico\, Av. Salvador Allende Gossens 3925\, Iquique\, Tarapacá\, Iquique\, Chile
END:VEVENT
BEGIN:VEVENT
DTSTART;VALUE=DATE:20260119
DTEND;VALUE=DATE:20260120
DTSTAMP:20260419T143025
CREATED:20250526T135737Z
LAST-MODIFIED:20250526T135737Z
UID:10001686-1768780800-1768867199@www.chb.cl
SUMMARY:Resultados del Proceso de Selección
DESCRIPTION:
URL:https://www.chb.cl/sitio/event/resultados-del-proceso-de-seleccion/
LOCATION:Colegio Hispano Británico\, Av. Salvador Allende Gossens 3925\, Iquique\, Tarapacá\, Iquique\, Chile
END:VEVENT
BEGIN:VEVENT
DTSTART;VALUE=DATE:20260108
DTEND;VALUE=DATE:20260109
DTSTAMP:20260419T143025
CREATED:20251223T024940Z
LAST-MODIFIED:20251223T024940Z
UID:10001787-1767830400-1767916799@www.chb.cl
SUMMARY:Publicación Oficial Instrucciones de Matrícula
DESCRIPTION:
URL:https://www.chb.cl/sitio/event/publicacion-oficial-instrucciones-de-matricula-3/
LOCATION:Colegio Hispano Británico\, Av. Salvador Allende Gossens 3925\, Iquique\, Tarapacá\, Iquique\, Chile
END:VEVENT
BEGIN:VEVENT
DTSTART;VALUE=DATE:20260108
DTEND;VALUE=DATE:20260109
DTSTAMP:20260419T143025
CREATED:20251223T024928Z
LAST-MODIFIED:20251223T024928Z
UID:10001786-1767830400-1767916799@www.chb.cl
SUMMARY:Finaliza Etapa de Postulaciones
DESCRIPTION:
URL:https://www.chb.cl/sitio/event/finaliza-etapa-de-postulaciones-2/
LOCATION:Colegio Hispano Británico\, Av. Salvador Allende Gossens 3925\, Iquique\, Tarapacá\, Iquique\, Chile
END:VEVENT
BEGIN:VEVENT
DTSTART;VALUE=DATE:20260108
DTEND;VALUE=DATE:20260109
DTSTAMP:20260419T143025
CREATED:20250526T135720Z
LAST-MODIFIED:20250526T135720Z
UID:10001685-1767830400-1767916799@www.chb.cl
SUMMARY:Publicación oficial Instrucciones de Matrícula
DESCRIPTION:
URL:https://www.chb.cl/sitio/event/publicacion-oficial-instrucciones-de-matricula-2/
LOCATION:Colegio Hispano Británico\, Av. Salvador Allende Gossens 3925\, Iquique\, Tarapacá\, Iquique\, Chile
END:VEVENT
BEGIN:VEVENT
DTSTART;VALUE=DATE:20260108
DTEND;VALUE=DATE:20260109
DTSTAMP:20260419T143025
CREATED:20250526T135702Z
LAST-MODIFIED:20250526T135702Z
UID:10001684-1767830400-1767916799@www.chb.cl
SUMMARY:Finaliza Etapa de Postulaciones
DESCRIPTION:
URL:https://www.chb.cl/sitio/event/finaliza-etapa-de-postulaciones/
LOCATION:Colegio Hispano Británico\, Av. Salvador Allende Gossens 3925\, Iquique\, Tarapacá\, Iquique\, Chile
END:VEVENT
BEGIN:VEVENT
DTSTART;VALUE=DATE:20260105
DTEND;VALUE=DATE:20260106
DTSTAMP:20260419T143025
CREATED:20251223T024911Z
LAST-MODIFIED:20251223T024911Z
UID:10001785-1767571200-1767657599@www.chb.cl
SUMMARY:Inicio Etapa de postulaciones
DESCRIPTION:
URL:https://www.chb.cl/sitio/event/inicio-etapa-de-postulaciones-2/
LOCATION:Colegio Hispano Británico\, Av. Salvador Allende Gossens 3925\, Iquique\, Tarapacá\, Iquique\, Chile
END:VEVENT
BEGIN:VEVENT
DTSTART;VALUE=DATE:20260105
DTEND;VALUE=DATE:20260106
DTSTAMP:20260419T143025
CREATED:20251223T024859Z
LAST-MODIFIED:20251223T024859Z
UID:10001784-1767571200-1767657599@www.chb.cl
SUMMARY:Resultados PAES regular
DESCRIPTION:
URL:https://www.chb.cl/sitio/event/resultados-paes-regular/
LOCATION:Colegio Hispano Británico\, Av. Salvador Allende Gossens 3925\, Iquique\, Tarapacá\, Iquique\, Chile
END:VEVENT
BEGIN:VEVENT
DTSTART;VALUE=DATE:20260105
DTEND;VALUE=DATE:20260106
DTSTAMP:20260419T143025
CREATED:20250526T135640Z
LAST-MODIFIED:20250526T135640Z
UID:10001683-1767571200-1767657599@www.chb.cl
SUMMARY:Inicio Etapa de Postulaciones
DESCRIPTION:
URL:https://www.chb.cl/sitio/event/inicio-etapa-de-postulaciones/
LOCATION:Colegio Hispano Británico\, Av. Salvador Allende Gossens 3925\, Iquique\, Tarapacá\, Iquique\, Chile
END:VEVENT
BEGIN:VEVENT
DTSTART;VALUE=DATE:20260105
DTEND;VALUE=DATE:20260106
DTSTAMP:20260419T143025
CREATED:20250526T135615Z
LAST-MODIFIED:20250526T135615Z
UID:10001682-1767571200-1767657599@www.chb.cl
SUMMARY:Resultados de Puntajes PAES Regular
DESCRIPTION:
URL:https://www.chb.cl/sitio/event/resultados-de-puntajes-paes-regular/
LOCATION:Colegio Hispano Británico\, Av. Salvador Allende Gossens 3925\, Iquique\, Tarapacá\, Iquique\, Chile
END:VEVENT
BEGIN:VEVENT
DTSTART;TZID=America/Sao_Paulo:20260105T000000
DTEND;TZID=America/Sao_Paulo:20260105T000000
DTSTAMP:20260419T143025
CREATED:20260105T182223Z
LAST-MODIFIED:20260105T182300Z
UID:10001793-1767571200-1767571200@www.chb.cl
SUMMARY:Inicio de clases CHB
DESCRIPTION:
URL:https://www.chb.cl/sitio/event/inicio-de-clases-chb/
END:VEVENT
BEGIN:VEVENT
DTSTART;VALUE=DATE:20251217
DTEND;VALUE=DATE:20251218
DTSTAMP:20260419T143025
CREATED:20251117T114532Z
LAST-MODIFIED:20251117T114532Z
UID:10001782-1765929600-1766015999@www.chb.cl
SUMMARY:GRADUACIÓN JARDÍN
DESCRIPTION:
URL:https://www.chb.cl/sitio/event/graduacion-jardin/
LOCATION:Colegio Hispano Británico\, Av. Salvador Allende Gossens 3925\, Iquique\, Tarapacá\, Iquique\, Chile
END:VEVENT
BEGIN:VEVENT
DTSTART;VALUE=DATE:20251216
DTEND;VALUE=DATE:20251217
DTSTAMP:20260419T143025
CREATED:20251117T114520Z
LAST-MODIFIED:20251117T114520Z
UID:10001781-1765843200-1765929599@www.chb.cl
SUMMARY:Premiación ed. media
DESCRIPTION:
URL:https://www.chb.cl/sitio/event/premiacion-ed-media/
LOCATION:Colegio Hispano Británico\, Av. Salvador Allende Gossens 3925\, Iquique\, Tarapacá\, Iquique\, Chile
END:VEVENT
BEGIN:VEVENT
DTSTART;VALUE=DATE:20251216
DTEND;VALUE=DATE:20251217
DTSTAMP:20260419T143025
CREATED:20251117T114507Z
LAST-MODIFIED:20251117T114507Z
UID:10001780-1765843200-1765929599@www.chb.cl
SUMMARY:GRADUACIÓN 8vos C - D
DESCRIPTION:
URL:https://www.chb.cl/sitio/event/graduacion-8vos-c-d/
LOCATION:Colegio Hispano Británico\, Av. Salvador Allende Gossens 3925\, Iquique\, Tarapacá\, Iquique\, Chile
END:VEVENT
BEGIN:VEVENT
DTSTART;VALUE=DATE:20251215
DTEND;VALUE=DATE:20251216
DTSTAMP:20260419T143025
CREATED:20251117T114453Z
LAST-MODIFIED:20251117T114453Z
UID:10001779-1765756800-1765843199@www.chb.cl
SUMMARY:Premiación ed. básica
DESCRIPTION:
URL:https://www.chb.cl/sitio/event/premiacion-ed-basica/
LOCATION:Colegio Hispano Británico\, Av. Salvador Allende Gossens 3925\, Iquique\, Tarapacá\, Iquique\, Chile
END:VEVENT
BEGIN:VEVENT
DTSTART;VALUE=DATE:20251215
DTEND;VALUE=DATE:20251216
DTSTAMP:20260419T143025
CREATED:20251117T114441Z
LAST-MODIFIED:20251117T114441Z
UID:10001778-1765756800-1765843199@www.chb.cl
SUMMARY:GRADUACIÓN  8vos A - B
DESCRIPTION:
URL:https://www.chb.cl/sitio/event/graduacion-8vos-a-b/
LOCATION:Colegio Hispano Británico\, Av. Salvador Allende Gossens 3925\, Iquique\, Tarapacá\, Iquique\, Chile
END:VEVENT
BEGIN:VEVENT
DTSTART;VALUE=DATE:20251212
DTEND;VALUE=DATE:20251213
DTSTAMP:20260419T143025
CREATED:20250102T202041Z
LAST-MODIFIED:20250102T202041Z
UID:10001585-1765497600-1765583999@www.chb.cl
SUMMARY:MA. Aniversario Acuerdo de París
DESCRIPTION:
URL:https://www.chb.cl/sitio/event/ma-aniversario-acuerdo-de-paris-2/
LOCATION:Colegio Hispano Británico\, Av. Salvador Allende Gossens 3925\, Iquique\, Tarapacá\, Iquique\, Chile
END:VEVENT
BEGIN:VEVENT
DTSTART;VALUE=DATE:20251211
DTEND;VALUE=DATE:20251212
DTSTAMP:20260419T143025
CREATED:20250204T130942Z
LAST-MODIFIED:20250204T130942Z
UID:10001587-1765411200-1765497599@www.chb.cl
SUMMARY:Último día de clases
DESCRIPTION:
URL:https://www.chb.cl/sitio/event/ultimo-dia-de-clases-2/
LOCATION:Colegio Hispano Británico\, Av. Salvador Allende Gossens 3925\, Iquique\, Tarapacá\, Iquique\, Chile
END:VEVENT
BEGIN:VEVENT
DTSTART;VALUE=DATE:20251211
DTEND;VALUE=DATE:20251212
DTSTAMP:20260419T143025
CREATED:20250102T201958Z
LAST-MODIFIED:20250102T201958Z
UID:10001584-1765411200-1765497599@www.chb.cl
SUMMARY:MA. Día Internacional de las Montañas
DESCRIPTION:
URL:https://www.chb.cl/sitio/event/ma-dia-internacional-de-las-montanas-2/
LOCATION:Colegio Hispano Británico\, Av. Salvador Allende Gossens 3925\, Iquique\, Tarapacá\, Iquique\, Chile
END:VEVENT
BEGIN:VEVENT
DTSTART;VALUE=DATE:20251205
DTEND;VALUE=DATE:20251206
DTSTAMP:20260419T143025
CREATED:20250102T201915Z
LAST-MODIFIED:20250102T201915Z
UID:10001583-1764892800-1764979199@www.chb.cl
SUMMARY:MA. Día Mundial de los Suelos
DESCRIPTION:
URL:https://www.chb.cl/sitio/event/ma-dia-mundial-de-los-suelos-2/
LOCATION:Colegio Hispano Británico\, Av. Salvador Allende Gossens 3925\, Iquique\, Tarapacá\, Iquique\, Chile
END:VEVENT
BEGIN:VEVENT
DTSTART;TZID=America/Sao_Paulo:20251203T080000
DTEND;TZID=America/Sao_Paulo:20251203T170000
DTSTAMP:20260419T143025
CREATED:20250522T171008Z
LAST-MODIFIED:20250522T171008Z
UID:10001678-1764748800-1764781200@www.chb.cl
SUMMARY:Rendición PAES Regular - Día 3
DESCRIPTION:
URL:https://www.chb.cl/sitio/event/rendicion-paes-regular-dia-3/
LOCATION:Colegio Hispano Británico\, Av. Salvador Allende Gossens 3925\, Iquique\, Tarapacá\, Iquique\, Chile
END:VEVENT
BEGIN:VEVENT
DTSTART;TZID=America/Sao_Paulo:20251202T080000
DTEND;TZID=America/Sao_Paulo:20251202T170000
DTSTAMP:20260419T143025
CREATED:20250522T170947Z
LAST-MODIFIED:20250522T170947Z
UID:10001677-1764662400-1764694800@www.chb.cl
SUMMARY:Rendición PAES Regular - Día 2
DESCRIPTION:
URL:https://www.chb.cl/sitio/event/rendicion-paes-regular-dia-2/
LOCATION:Colegio Hispano Británico\, Av. Salvador Allende Gossens 3925\, Iquique\, Tarapacá\, Iquique\, Chile
END:VEVENT
BEGIN:VEVENT
DTSTART;TZID=America/Sao_Paulo:20251201T080000
DTEND;TZID=America/Sao_Paulo:20251201T170000
DTSTAMP:20260419T143025
CREATED:20250522T170927Z
LAST-MODIFIED:20250522T170927Z
UID:10001676-1764576000-1764608400@www.chb.cl
SUMMARY:Rendición PAES Regular - Día 1
DESCRIPTION:
URL:https://www.chb.cl/sitio/event/rendicion-paes-regular-dia-1/
LOCATION:Colegio Hispano Británico\, Av. Salvador Allende Gossens 3925\, Iquique\, Tarapacá\, Iquique\, Chile
END:VEVENT
BEGIN:VEVENT
DTSTART;VALUE=DATE:20251128
DTEND;VALUE=DATE:20251129
DTSTAMP:20260419T143025
CREATED:20250102T201611Z
LAST-MODIFIED:20250102T201611Z
UID:10001582-1764288000-1764374399@www.chb.cl
SUMMARY:MA. Día Mundial sin compras
DESCRIPTION:
URL:https://www.chb.cl/sitio/event/ma-dia-mundial-sin-compras/
LOCATION:Colegio Hispano Británico\, Av. Salvador Allende Gossens 3925\, Iquique\, Tarapacá\, Iquique\, Chile
END:VEVENT
BEGIN:VEVENT
DTSTART;TZID=America/Sao_Paulo:20251120T080000
DTEND;TZID=America/Sao_Paulo:20251120T170000
DTSTAMP:20260419T143025
CREATED:20250522T170906Z
LAST-MODIFIED:20250522T170906Z
UID:10001675-1763625600-1763658000@www.chb.cl
SUMMARY:Publicación oficial Servicios y Beneficios Universitarios
DESCRIPTION:
URL:https://www.chb.cl/sitio/event/publicacion-oficial-servicios-y-beneficios-universitarios-2/
LOCATION:Colegio Hispano Británico\, Av. Salvador Allende Gossens 3925\, Iquique\, Tarapacá\, Iquique\, Chile
END:VEVENT
BEGIN:VEVENT
DTSTART;VALUE=DATE:20251120
DTEND;VALUE=DATE:20251121
DTSTAMP:20260419T143025
CREATED:20251117T114425Z
LAST-MODIFIED:20251117T114425Z
UID:10001777-1763596800-1763683199@www.chb.cl
SUMMARY:Reunión de apoderados ed. Básica
DESCRIPTION:
URL:https://www.chb.cl/sitio/event/reunion-de-apoderados-ed-basica/
LOCATION:Colegio Hispano Británico\, Av. Salvador Allende Gossens 3925\, Iquique\, Tarapacá\, Iquique\, Chile
END:VEVENT
BEGIN:VEVENT
DTSTART;VALUE=DATE:20251120
DTEND;VALUE=DATE:20251121
DTSTAMP:20260419T143025
CREATED:20250313T140220Z
LAST-MODIFIED:20250313T140220Z
UID:10001627-1763596800-1763683199@www.chb.cl
SUMMARY:Día Universal de la Infancia (Día de los derechos del niño y la niña)
DESCRIPTION:
URL:https://www.chb.cl/sitio/event/dia-universal-de-la-infancia-dia-de-los-derechos-del-nino-y-la-nina/
LOCATION:Colegio Hispano Británico\, Av. Salvador Allende Gossens 3925\, Iquique\, Tarapacá\, Iquique\, Chile
END:VEVENT
BEGIN:VEVENT
DTSTART;VALUE=DATE:20251119
DTEND;VALUE=DATE:20251120
DTSTAMP:20260419T143025
CREATED:20251117T114403Z
LAST-MODIFIED:20251117T114403Z
UID:10001776-1763510400-1763596799@www.chb.cl
SUMMARY:Olimpiadas de cálculo Mental.
DESCRIPTION:
URL:https://www.chb.cl/sitio/event/olimpiadas-de-calculo-mental-2/
LOCATION:Colegio Hispano Británico\, Av. Salvador Allende Gossens 3925\, Iquique\, Tarapacá\, Iquique\, Chile
END:VEVENT
END:VCALENDAR