BEGIN:VCALENDAR
VERSION:2.0
PRODID:-//Colegio Hispano Británico - ECPv6.15.20//NONSGML v1.0//EN
CALSCALE:GREGORIAN
METHOD:PUBLISH
X-WR-CALNAME:Colegio Hispano Británico
X-ORIGINAL-URL:https://www.chb.cl/sitio
X-WR-CALDESC:Eventos para Colegio Hispano Británico
REFRESH-INTERVAL;VALUE=DURATION:PT1H
X-Robots-Tag:noindex
X-PUBLISHED-TTL:PT1H
BEGIN:VTIMEZONE
TZID:America/Sao_Paulo
BEGIN:STANDARD
TZOFFSETFROM:-0300
TZOFFSETTO:-0300
TZNAME:-03
DTSTART:20250101T000000
END:STANDARD
END:VTIMEZONE
BEGIN:VEVENT
DTSTART;VALUE=DATE:20261127
DTEND;VALUE=DATE:20261128
DTSTAMP:20260419T125009
CREATED:20260105T190256Z
LAST-MODIFIED:20260105T190256Z
UID:10001828-1795737600-1795823999@www.chb.cl
SUMMARY:Cierre del proceso evaluativo de 1° básico a III° medio
DESCRIPTION:
URL:https://www.chb.cl/sitio/event/cierre-del-proceso-evaluativo-de-1-basico-a-iii-medio/
LOCATION:Colegio Hispano Británico\, Av. Salvador Allende Gossens 3925\, Iquique\, Tarapacá\, Iquique\, Chile
END:VEVENT
BEGIN:VEVENT
DTSTART;VALUE=DATE:20261204
DTEND;VALUE=DATE:20261205
DTSTAMP:20260419T125009
CREATED:20260105T190654Z
LAST-MODIFIED:20260105T190654Z
UID:10001829-1796342400-1796428799@www.chb.cl
SUMMARY:Cierre de calificaciones de 1° básico a III° medio
DESCRIPTION:
URL:https://www.chb.cl/sitio/event/cierre-de-calificaciones-de-1-basico-a-iii-medio/
LOCATION:Colegio Hispano Británico\, Av. Salvador Allende Gossens 3925\, Iquique\, Tarapacá\, Iquique\, Chile
END:VEVENT
BEGIN:VEVENT
DTSTART;VALUE=DATE:20261211
DTEND;VALUE=DATE:20261212
DTSTAMP:20260419T125009
CREATED:20260105T190736Z
LAST-MODIFIED:20260105T190736Z
UID:10001830-1796947200-1797033599@www.chb.cl
SUMMARY:Término del año escolar CHB
DESCRIPTION:
URL:https://www.chb.cl/sitio/event/termino-del-ano-escolar-chb/
LOCATION:Colegio Hispano Británico\, Av. Salvador Allende Gossens 3925\, Iquique\, Tarapacá\, Iquique\, Chile
END:VEVENT
BEGIN:VEVENT
DTSTART;VALUE=DATE:20261214
DTEND;VALUE=DATE:20261215
DTSTAMP:20260419T125009
CREATED:20260105T190802Z
LAST-MODIFIED:20260105T190802Z
UID:10001831-1797206400-1797292799@www.chb.cl
SUMMARY:Reconocimiento estudiantes destacados básica
DESCRIPTION:
URL:https://www.chb.cl/sitio/event/reconocimiento-estudiantes-destacados-basica/
LOCATION:Colegio Hispano Británico\, Av. Salvador Allende Gossens 3925\, Iquique\, Tarapacá\, Iquique\, Chile
END:VEVENT
BEGIN:VEVENT
DTSTART;VALUE=DATE:20261215
DTEND;VALUE=DATE:20261216
DTSTAMP:20260419T125009
CREATED:20260105T190824Z
LAST-MODIFIED:20260105T190824Z
UID:10001832-1797292800-1797379199@www.chb.cl
SUMMARY:Reconocimiento estudiantes destacados media
DESCRIPTION:
URL:https://www.chb.cl/sitio/event/reconocimiento-estudiantes-destacados-media/
LOCATION:Colegio Hispano Británico\, Av. Salvador Allende Gossens 3925\, Iquique\, Tarapacá\, Iquique\, Chile
END:VEVENT
END:VCALENDAR