BEGIN:VCALENDAR
VERSION:2.0
PRODID:-//Colegio Hispano Británico - ECPv6.15.20//NONSGML v1.0//EN
CALSCALE:GREGORIAN
METHOD:PUBLISH
X-ORIGINAL-URL:https://www.chb.cl/sitio
X-WR-CALDESC:Eventos para Colegio Hispano Británico
REFRESH-INTERVAL;VALUE=DURATION:PT1H
X-Robots-Tag:noindex
X-PUBLISHED-TTL:PT1H
BEGIN:VTIMEZONE
TZID:America/Sao_Paulo
BEGIN:STANDARD
TZOFFSETFROM:-0300
TZOFFSETTO:-0300
TZNAME:-03
DTSTART:20240101T000000
END:STANDARD
END:VTIMEZONE
BEGIN:VEVENT
DTSTART;VALUE=DATE:20250901
DTEND;VALUE=DATE:20250902
DTSTAMP:20260419T141518
CREATED:20250825T173104Z
LAST-MODIFIED:20250825T173104Z
UID:10001737-1756684800-1756771199@www.chb.cl
SUMMARY:Inicia proceso de Matrícula para el año 2026
DESCRIPTION:
URL:https://www.chb.cl/sitio/event/inicia-proceso-de-matricula-para-el-ano-2026/
LOCATION:Colegio Hispano Británico\, Av. Salvador Allende Gossens 3925\, Iquique\, Tarapacá\, Iquique\, Chile
END:VEVENT
BEGIN:VEVENT
DTSTART;VALUE=DATE:20250901
DTEND;VALUE=DATE:20250902
DTSTAMP:20260419T141518
CREATED:20250901T135447Z
LAST-MODIFIED:20250901T135447Z
UID:10001739-1756684800-1756771199@www.chb.cl
SUMMARY:Reunión apoderados 8° D
DESCRIPTION:
URL:https://www.chb.cl/sitio/event/reunion-apoderados-8-d/
LOCATION:Colegio Hispano Británico\, Av. Salvador Allende Gossens 3925\, Iquique\, Tarapacá\, Iquique\, Chile
END:VEVENT
BEGIN:VEVENT
DTSTART;VALUE=DATE:20250905
DTEND;VALUE=DATE:20250906
DTSTAMP:20260419T141518
CREATED:20250901T135513Z
LAST-MODIFIED:20250901T135513Z
UID:10001740-1757030400-1757116799@www.chb.cl
SUMMARY:Feria Electividad II medios
DESCRIPTION:
URL:https://www.chb.cl/sitio/event/feria-electividad-ii-medios/
LOCATION:Colegio Hispano Británico\, Av. Salvador Allende Gossens 3925\, Iquique\, Tarapacá\, Iquique\, Chile
END:VEVENT
BEGIN:VEVENT
DTSTART;VALUE=DATE:20250906
DTEND;VALUE=DATE:20250907
DTSTAMP:20260419T141518
CREATED:20250102T180045Z
LAST-MODIFIED:20250102T180045Z
UID:10001564-1757116800-1757203199@www.chb.cl
SUMMARY:MA. Día Mundial de las Aves Playeras
DESCRIPTION:
URL:https://www.chb.cl/sitio/event/ma-dia-mundial-de-las-aves-playeras-2/
LOCATION:Colegio Hispano Británico\, Av. Salvador Allende Gossens 3925\, Iquique\, Tarapacá\, Iquique\, Chile
END:VEVENT
BEGIN:VEVENT
DTSTART;VALUE=DATE:20250906
DTEND;VALUE=DATE:20250907
DTSTAMP:20260419T141518
CREATED:20250901T135529Z
LAST-MODIFIED:20250901T135529Z
UID:10001741-1757116800-1757203199@www.chb.cl
SUMMARY:Fiesta de la Chilenidad CGPMA
DESCRIPTION:
URL:https://www.chb.cl/sitio/event/fiesta-de-la-chilenidad-cgpma/
LOCATION:Colegio Hispano Británico\, Av. Salvador Allende Gossens 3925\, Iquique\, Tarapacá\, Iquique\, Chile
END:VEVENT
BEGIN:VEVENT
DTSTART;VALUE=DATE:20250915
DTEND;VALUE=DATE:20250918
DTSTAMP:20260419T141518
CREATED:20250204T131125Z
LAST-MODIFIED:20250204T131125Z
UID:10001590-1757894400-1758153599@www.chb.cl
SUMMARY:Suspensión de clases (recuperado 04 de marzo\, 09 y 10 de diciembre)
DESCRIPTION:
URL:https://www.chb.cl/sitio/event/suspension-de-clases-recuperado-04-de-marzo-09-y-10-de-diciembre/
LOCATION:Colegio Hispano Británico\, Av. Salvador Allende Gossens 3925\, Iquique\, Tarapacá\, Iquique\, Chile
END:VEVENT
BEGIN:VEVENT
DTSTART;VALUE=DATE:20250916
DTEND;VALUE=DATE:20250917
DTSTAMP:20260419T141518
CREATED:20250102T180136Z
LAST-MODIFIED:20250102T180136Z
UID:10001565-1757980800-1758067199@www.chb.cl
SUMMARY:MA. Día Internacional de la Preservación de la Capa de Ozono
DESCRIPTION:
URL:https://www.chb.cl/sitio/event/ma-dia-internacional-de-la-preservacion-de-la-capa-de-ozono-2/
LOCATION:Colegio Hispano Británico\, Av. Salvador Allende Gossens 3925\, Iquique\, Tarapacá\, Iquique\, Chile
END:VEVENT
BEGIN:VEVENT
DTSTART;VALUE=DATE:20250921
DTEND;VALUE=DATE:20250922
DTSTAMP:20260419T141518
CREATED:20250313T135036Z
LAST-MODIFIED:20250313T135036Z
UID:10001618-1758412800-1758499199@www.chb.cl
SUMMARY:Día Internacional de la Paz
DESCRIPTION:
URL:https://www.chb.cl/sitio/event/dia-internacional-de-la-paz-2/
LOCATION:Colegio Hispano Británico\, Av. Salvador Allende Gossens 3925\, Iquique\, Tarapacá\, Iquique\, Chile
END:VEVENT
BEGIN:VEVENT
DTSTART;VALUE=DATE:20250922
DTEND;VALUE=DATE:20250923
DTSTAMP:20260419T141518
CREATED:20250102T180225Z
LAST-MODIFIED:20250102T180225Z
UID:10001566-1758499200-1758585599@www.chb.cl
SUMMARY:MA. Día Mundial sin Automóvil
DESCRIPTION:
URL:https://www.chb.cl/sitio/event/ma-dia-mundial-sin-automovil-2/
LOCATION:Colegio Hispano Británico\, Av. Salvador Allende Gossens 3925\, Iquique\, Tarapacá\, Iquique\, Chile
END:VEVENT
BEGIN:VEVENT
DTSTART;VALUE=DATE:20250925
DTEND;VALUE=DATE:20250926
DTSTAMP:20260419T141518
CREATED:20250102T180342Z
LAST-MODIFIED:20250102T180342Z
UID:10001567-1758758400-1758844799@www.chb.cl
SUMMARY:MA. Día Marítimo Mundial (Último jueves)
DESCRIPTION:
URL:https://www.chb.cl/sitio/event/ma-dia-maritimo-mundial-ultimo-jueves/
LOCATION:Colegio Hispano Británico\, Av. Salvador Allende Gossens 3925\, Iquique\, Tarapacá\, Iquique\, Chile
END:VEVENT
BEGIN:VEVENT
DTSTART;TZID=America/Sao_Paulo:20250925T080000
DTEND;TZID=America/Sao_Paulo:20250925T170000
DTSTAMP:20260419T141518
CREATED:20250522T170847Z
LAST-MODIFIED:20250522T170847Z
UID:10001674-1758787200-1758819600@www.chb.cl
SUMMARY:Publicación Oferta Definitiva de Carreras\, Vacantes y Ponderaciones\, Admisión 2026
DESCRIPTION:
URL:https://www.chb.cl/sitio/event/publicacion-oferta-definitiva-de-carreras-vacantes-y-ponderaciones-admision-2026/
LOCATION:Colegio Hispano Británico\, Av. Salvador Allende Gossens 3925\, Iquique\, Tarapacá\, Iquique\, Chile
END:VEVENT
BEGIN:VEVENT
DTSTART;VALUE=DATE:20250926
DTEND;VALUE=DATE:20250927
DTSTAMP:20260419T141518
CREATED:20250102T180458Z
LAST-MODIFIED:20250102T180458Z
UID:10001568-1758844800-1758931199@www.chb.cl
SUMMARY:MA. Día de Limpieza de Playas y Costas (Último viernes)
DESCRIPTION:
URL:https://www.chb.cl/sitio/event/ma-dia-de-limpieza-de-playas-y-costas-ultimo-viernes/
LOCATION:Colegio Hispano Británico\, Av. Salvador Allende Gossens 3925\, Iquique\, Tarapacá\, Iquique\, Chile
END:VEVENT
BEGIN:VEVENT
DTSTART;VALUE=DATE:20250926
DTEND;VALUE=DATE:20250927
DTSTAMP:20260419T141518
CREATED:20250102T182324Z
LAST-MODIFIED:20250102T182324Z
UID:10001569-1758844800-1758931199@www.chb.cl
SUMMARY:MA. Día Nacional sin automóvil (Último viernes)
DESCRIPTION:
URL:https://www.chb.cl/sitio/event/ma-dia-nacional-sin-automovil-ultimo-viernes/
LOCATION:Colegio Hispano Británico\, Av. Salvador Allende Gossens 3925\, Iquique\, Tarapacá\, Iquique\, Chile
END:VEVENT
BEGIN:VEVENT
DTSTART;VALUE=DATE:20250926
DTEND;VALUE=DATE:20250927
DTSTAMP:20260419T141518
CREATED:20250825T173126Z
LAST-MODIFIED:20250825T173126Z
UID:10001738-1758844800-1758931199@www.chb.cl
SUMMARY:Finaliza proceso de Matrícula para el año 2026
DESCRIPTION:
URL:https://www.chb.cl/sitio/event/finaliza-proceso-de-matricula-para-el-ano-2026/
LOCATION:Colegio Hispano Británico\, Av. Salvador Allende Gossens 3925\, Iquique\, Tarapacá\, Iquique\, Chile
END:VEVENT
BEGIN:VEVENT
DTSTART;VALUE=DATE:20250929
DTEND;VALUE=DATE:20250930
DTSTAMP:20260419T141518
CREATED:20250102T182516Z
LAST-MODIFIED:20250102T182516Z
UID:10001570-1759104000-1759190399@www.chb.cl
SUMMARY:MA. Día Internacional de concienciación sobre la pérdida y el desperdicio de alimentos
DESCRIPTION:
URL:https://www.chb.cl/sitio/event/ma-dia-internacional-de-concienciacion-sobre-la-perdida-y-el-desperdicio-de-alimentos/
LOCATION:Colegio Hispano Británico\, Av. Salvador Allende Gossens 3925\, Iquique\, Tarapacá\, Iquique\, Chile
END:VEVENT
BEGIN:VEVENT
DTSTART;VALUE=DATE:20250930
DTEND;VALUE=DATE:20251001
DTSTAMP:20260419T141518
CREATED:20250102T182601Z
LAST-MODIFIED:20250102T182601Z
UID:10001571-1759190400-1759276799@www.chb.cl
SUMMARY:MA. Día Nacional del Guadaparque
DESCRIPTION:
URL:https://www.chb.cl/sitio/event/ma-dia-nacional-del-guadaparque/
LOCATION:Colegio Hispano Británico\, Av. Salvador Allende Gossens 3925\, Iquique\, Tarapacá\, Iquique\, Chile
END:VEVENT
END:VCALENDAR