BEGIN:VCALENDAR
VERSION:2.0
PRODID:-//Colegio Hispano Británico - ECPv6.15.20//NONSGML v1.0//EN
CALSCALE:GREGORIAN
METHOD:PUBLISH
X-WR-CALNAME:Colegio Hispano Británico
X-ORIGINAL-URL:https://www.chb.cl/sitio
X-WR-CALDESC:Eventos para Colegio Hispano Británico
REFRESH-INTERVAL;VALUE=DURATION:PT1H
X-Robots-Tag:noindex
X-PUBLISHED-TTL:PT1H
BEGIN:VTIMEZONE
TZID:America/Sao_Paulo
BEGIN:STANDARD
TZOFFSETFROM:-0300
TZOFFSETTO:-0300
TZNAME:-03
DTSTART:20250101T000000
END:STANDARD
END:VTIMEZONE
BEGIN:VEVENT
DTSTART;VALUE=DATE:20260703
DTEND;VALUE=DATE:20260704
DTSTAMP:20260421T071243
CREATED:20260105T184212Z
LAST-MODIFIED:20260105T184212Z
UID:10001806-1783036800-1783123199@www.chb.cl
SUMMARY:Cierre de calificaciones del primer semestre
DESCRIPTION:
URL:https://www.chb.cl/sitio/event/cierre-de-calificaciones-del-primer-semestre/
LOCATION:Colegio Hispano Británico\, Av. Salvador Allende Gossens 3925\, Iquique\, Tarapacá\, Iquique\, Chile
END:VEVENT
BEGIN:VEVENT
DTSTART;VALUE=DATE:20260727
DTEND;VALUE=DATE:20260729
DTSTAMP:20260421T071243
CREATED:20260105T184253Z
LAST-MODIFIED:20260105T184253Z
UID:10001807-1785110400-1785283199@www.chb.cl
SUMMARY:Jornada Evaluación y planificación
DESCRIPTION:
URL:https://www.chb.cl/sitio/event/jornada-evaluacion-y-planificacion/
LOCATION:Colegio Hispano Británico\, Av. Salvador Allende Gossens 3925\, Iquique\, Tarapacá\, Iquique\, Chile
END:VEVENT
BEGIN:VEVENT
DTSTART;VALUE=DATE:20260729
DTEND;VALUE=DATE:20260730
DTSTAMP:20260421T071243
CREATED:20260105T184333Z
LAST-MODIFIED:20260105T184333Z
UID:10001808-1785283200-1785369599@www.chb.cl
SUMMARY:Inicio de clases 2° semestre CHB
DESCRIPTION:
URL:https://www.chb.cl/sitio/event/inicio-de-clases-2-semestre-chb/
LOCATION:Colegio Hispano Británico\, Av. Salvador Allende Gossens 3925\, Iquique\, Tarapacá\, Iquique\, Chile
END:VEVENT
BEGIN:VEVENT
DTSTART;VALUE=DATE:20260731
DTEND;VALUE=DATE:20260801
DTSTAMP:20260421T071243
CREATED:20260105T184403Z
LAST-MODIFIED:20260105T184403Z
UID:10001809-1785456000-1785542399@www.chb.cl
SUMMARY:Cierre de informes de personalidad primer semestre
DESCRIPTION:
URL:https://www.chb.cl/sitio/event/cierre-de-informes-de-personalidad-primer-semestre/
LOCATION:Colegio Hispano Británico\, Av. Salvador Allende Gossens 3925\, Iquique\, Tarapacá\, Iquique\, Chile
END:VEVENT
END:VCALENDAR