BEGIN:VCALENDAR
VERSION:2.0
PRODID:-//Colegio Hispano Británico - ECPv6.15.20//NONSGML v1.0//EN
CALSCALE:GREGORIAN
METHOD:PUBLISH
X-WR-CALNAME:Colegio Hispano Británico
X-ORIGINAL-URL:https://www.chb.cl/sitio
X-WR-CALDESC:Eventos para Colegio Hispano Británico
REFRESH-INTERVAL;VALUE=DURATION:PT1H
X-Robots-Tag:noindex
X-PUBLISHED-TTL:PT1H
BEGIN:VTIMEZONE
TZID:America/Sao_Paulo
BEGIN:STANDARD
TZOFFSETFROM:-0300
TZOFFSETTO:-0300
TZNAME:-03
DTSTART:20250101T000000
END:STANDARD
END:VTIMEZONE
BEGIN:VEVENT
DTSTART;VALUE=DATE:20260903
DTEND;VALUE=DATE:20260904
DTSTAMP:20260421T102350
CREATED:20260105T185044Z
LAST-MODIFIED:20260105T185044Z
UID:10001813-1788393600-1788479999@www.chb.cl
SUMMARY:Feria de Electividad
DESCRIPTION:
URL:https://www.chb.cl/sitio/event/feria-de-electividad/
LOCATION:Colegio Hispano Británico\, Av. Salvador Allende Gossens 3925\, Iquique\, Tarapacá\, Iquique\, Chile
END:VEVENT
BEGIN:VEVENT
DTSTART;VALUE=DATE:20260907
DTEND;VALUE=DATE:20260908
DTSTAMP:20260421T102350
CREATED:20260105T185213Z
LAST-MODIFIED:20260105T185213Z
UID:10001815-1788739200-1788825599@www.chb.cl
SUMMARY:Postulación de Electividad
DESCRIPTION:
URL:https://www.chb.cl/sitio/event/postulacion-de-electividad/
LOCATION:Colegio Hispano Británico\, Av. Salvador Allende Gossens 3925\, Iquique\, Tarapacá\, Iquique\, Chile
END:VEVENT
BEGIN:VEVENT
DTSTART;VALUE=DATE:20260911
DTEND;VALUE=DATE:20260912
DTSTAMP:20260421T102350
CREATED:20260105T185107Z
LAST-MODIFIED:20260105T185107Z
UID:10001814-1789084800-1789171199@www.chb.cl
SUMMARY:Presentación folclórica CHB
DESCRIPTION:
URL:https://www.chb.cl/sitio/event/presentacion-folclorica-chb/
LOCATION:Colegio Hispano Británico\, Av. Salvador Allende Gossens 3925\, Iquique\, Tarapacá\, Iquique\, Chile
END:VEVENT
BEGIN:VEVENT
DTSTART;VALUE=DATE:20260930
DTEND;VALUE=DATE:20261001
DTSTAMP:20260421T102350
CREATED:20260105T185253Z
LAST-MODIFIED:20260105T185253Z
UID:10001816-1790726400-1790812799@www.chb.cl
SUMMARY:Publicación de resultados electividad.
DESCRIPTION:
URL:https://www.chb.cl/sitio/event/publicacion-de-resultados-electividad/
LOCATION:Colegio Hispano Británico\, Av. Salvador Allende Gossens 3925\, Iquique\, Tarapacá\, Iquique\, Chile
END:VEVENT
END:VCALENDAR