BEGIN:VCALENDAR
VERSION:2.0
PRODID:-//Colegio Hispano Británico - ECPv6.15.20//NONSGML v1.0//EN
CALSCALE:GREGORIAN
METHOD:PUBLISH
X-WR-CALNAME:Colegio Hispano Británico
X-ORIGINAL-URL:https://www.chb.cl/sitio
X-WR-CALDESC:Eventos para Colegio Hispano Británico
REFRESH-INTERVAL;VALUE=DURATION:PT1H
X-Robots-Tag:noindex
X-PUBLISHED-TTL:PT1H
BEGIN:VTIMEZONE
TZID:America/Sao_Paulo
BEGIN:STANDARD
TZOFFSETFROM:-0300
TZOFFSETTO:-0300
TZNAME:-03
DTSTART:20250101T000000
END:STANDARD
END:VTIMEZONE
BEGIN:VEVENT
DTSTART;VALUE=DATE:20261006
DTEND;VALUE=DATE:20261007
DTSTAMP:20260421T122619
CREATED:20260105T185425Z
LAST-MODIFIED:20260105T185425Z
UID:10001817-1791244800-1791331199@www.chb.cl
SUMMARY:Presentación ABP Latinoamérica baila
DESCRIPTION:
URL:https://www.chb.cl/sitio/event/presentacion-abp-latinoamerica-baila/
LOCATION:Colegio Hispano Británico\, Av. Salvador Allende Gossens 3925\, Iquique\, Tarapacá\, Iquique\, Chile
END:VEVENT
BEGIN:VEVENT
DTSTART;VALUE=DATE:20261014
DTEND;VALUE=DATE:20261015
DTSTAMP:20260421T122619
CREATED:20260105T185452Z
LAST-MODIFIED:20260105T185452Z
UID:10001818-1791936000-1792022399@www.chb.cl
SUMMARY:Cierre de proceso de electividad 2027 (Cambios)
DESCRIPTION:
URL:https://www.chb.cl/sitio/event/cierre-de-proceso-de-electividad-2027-cambios/
LOCATION:Colegio Hispano Británico\, Av. Salvador Allende Gossens 3925\, Iquique\, Tarapacá\, Iquique\, Chile
END:VEVENT
BEGIN:VEVENT
DTSTART;VALUE=DATE:20261023
DTEND;VALUE=DATE:20261024
DTSTAMP:20260421T122619
CREATED:20260105T185710Z
LAST-MODIFIED:20260105T185710Z
UID:10001819-1792713600-1792799999@www.chb.cl
SUMMARY:Feria de la Ciencia CHB
DESCRIPTION:
URL:https://www.chb.cl/sitio/event/feria-de-la-ciencia-chb/
LOCATION:Colegio Hispano Británico\, Av. Salvador Allende Gossens 3925\, Iquique\, Tarapacá\, Iquique\, Chile
END:VEVENT
BEGIN:VEVENT
DTSTART;VALUE=DATE:20261030
DTEND;VALUE=DATE:20261031
DTSTAMP:20260421T122619
CREATED:20260105T185837Z
LAST-MODIFIED:20260105T185837Z
UID:10001820-1793318400-1793404799@www.chb.cl
SUMMARY:Día de la amistad
DESCRIPTION:
URL:https://www.chb.cl/sitio/event/dia-de-la-amistad-2/
LOCATION:Colegio Hispano Británico\, Av. Salvador Allende Gossens 3925\, Iquique\, Tarapacá\, Iquique\, Chile
END:VEVENT
BEGIN:VEVENT
DTSTART;VALUE=DATE:20261030
DTEND;VALUE=DATE:20261031
DTSTAMP:20260421T122619
CREATED:20260105T185900Z
LAST-MODIFIED:20260105T185900Z
UID:10001821-1793318400-1793404799@www.chb.cl
SUMMARY:Cierre proceso evaluativo IV° medio
DESCRIPTION:
URL:https://www.chb.cl/sitio/event/cierre-proceso-evaluativo-iv-medio/
LOCATION:Colegio Hispano Británico\, Av. Salvador Allende Gossens 3925\, Iquique\, Tarapacá\, Iquique\, Chile
END:VEVENT
END:VCALENDAR